BEGIN:VCALENDAR
PRODID:-//AT Content Types//AT Event//EN
VERSION:1.0
BEGIN:VEVENT
DTSTART:20110516T163000Z
DTEND:20110516T200000Z
DCREATED:20110513T160236Z
UID:ATEvent-cb60178a819f53ec6da46a8de271077f
SEQUENCE:0
LAST-MODIFIED:20110801T130817Z
SUMMARY:Oitava reunião ordinária de 2011
DESCRIPTION:O Vereador Luis Antônio da Silva\, Presidente da Câmara 
 Municipal de Carneirinho\, Estado de Minas Gerais\, no uso das atribui
 ções que lhe confere o art. 30 - II - “a” do Regimento Interno.
LOCATION:Sala de Reuniões\, Câmara Municipal de Carneirinho.
PRIORITY:3
TRANSP:0
END:VEVENT
END:VCALENDAR
