BEGIN:VCALENDAR
PRODID:-//AT Content Types//AT Event//EN
VERSION:1.0
BEGIN:VEVENT
DTSTART:20110502T150000Z
DTEND:20110502T150000Z
DCREATED:20110513T160010Z
UID:ATEvent-2135b2930b3bbdb4ee6b488ddaf02551
SEQUENCE:0
LAST-MODIFIED:20110801T130812Z
SUMMARY:Sétima reunião ordinária de 2011
DESCRIPTION:O Vereador Luis Antônio da Silva\, Presidente da Câmara 
 Municipal de Carneirinho\, Estado de Minas Gerais\, no uso das atribui
 ções que lhe confere o art. 30 - II - “a” do Regimento Interno.
LOCATION:Sala de Reuniões\, Câmara Municipal de Carneirinho.
PRIORITY:3
TRANSP:0
END:VEVENT
END:VCALENDAR
