BEGIN:VCALENDAR
PRODID:-//AT Content Types//AT Event//EN
VERSION:2.0
METHOD:PUBLISH
BEGIN:VEVENT
DTSTAMP:20260425T134943Z
CREATED:20110401T200349Z
UID:ATEvent-ccc00b78bb88ee50c4f10a569b8e31c1
LAST-MODIFIED:20110801T130808Z
SUMMARY:Sexta Reunião Ordinária de 2011
DTSTART:20110418T163000Z
DTEND:20110418T203000Z
DESCRIPTION:O Vereador Luis Antônio da Silva\, Presidente da Câmara 
 Municipal de Carneirinho\, Estado de Minas Gerais\, no uso das atribui
 ções que lhe confere o art. 30 - II - “a” do Regimento Interno.
LOCATION:Plenário da câmara.
CONTACT:Adjane Luiza de Queiroz\, (34)3454-1340\, adjane@cmcarneirinho.mg.gov.br
CLASS:PUBLIC
END:VEVENT
END:VCALENDAR
